Package: HDF5Array Version: 1.34.0 Command: F:\biocbuild\bbs-3.20-bioc\R\bin\R.exe CMD INSTALL HDF5Array StartedAt: 2025-02-03 16:05:20 -0500 (Mon, 03 Feb 2025) EndedAt: 2025-02-03 16:06:49 -0500 (Mon, 03 Feb 2025) EllapsedTime: 89.1 seconds RetCode: 0 Status: OK