Package: HDF5Array Version: 1.34.0 Command: /home/biocbuild/R/R/bin/R CMD build --keep-empty-dirs --no-resave-data HDF5Array StartedAt: 2025-02-04 00:13:38 -0000 (Tue, 04 Feb 2025) EndedAt: 2025-02-04 00:13:40 -0000 (Tue, 04 Feb 2025) EllapsedTime: 2.0 seconds RetCode: 0 Status: OK PackageFile: HDF5Array_1.34.0.tar.gz PackageFileSize: 7.728 MiB