Package: HEM Version: 1.78.0 Command: /Library/Frameworks/R.framework/Resources/bin/R CMD build --keep-empty-dirs --no-resave-data HEM StartedAt: 2025-01-31 01:19:57 -0500 (Fri, 31 Jan 2025) EndedAt: 2025-01-31 01:20:12 -0500 (Fri, 31 Jan 2025) EllapsedTime: 14.9 seconds RetCode: 0 Status: OK PackageFile: HEM_1.78.0.tar.gz PackageFileSize: 611.3 KiB