Package: HEM Version: 1.78.0 Command: /Library/Frameworks/R.framework/Resources/bin/R CMD check --install=check:HEM.install-out.txt --library=/Library/Frameworks/R.framework/Resources/library --no-vignettes --timings HEM_1.78.0.tar.gz StartedAt: 2025-01-31 04:59:43 -0500 (Fri, 31 Jan 2025) EndedAt: 2025-01-31 05:00:44 -0500 (Fri, 31 Jan 2025) EllapsedTime: 60.7 seconds RetCode: 0 Status: OK CheckDir: HEM.Rcheck Warnings: 0