Package: HEM Version: 1.78.0 Command: /home/biocbuild/bbs-3.20-bioc/R/bin/R CMD build --keep-empty-dirs --no-resave-data --md5 HEM StartedAt: 2025-01-30 17:37:00 -0500 (Thu, 30 Jan 2025) EndedAt: 2025-01-30 17:37:11 -0500 (Thu, 30 Jan 2025) EllapsedTime: 11.0 seconds RetCode: 0 Status: OK PackageFile: HEM_1.78.0.tar.gz PackageFileSize: 613.2 KiB