Package: HEM Version: 1.78.0 Command: /home/biocbuild/bbs-3.20-bioc/R/bin/R CMD check --install=check:HEM.install-out.txt --library=/home/biocbuild/bbs-3.20-bioc/R/site-library --timings HEM_1.78.0.tar.gz StartedAt: 2025-01-30 22:57:22 -0500 (Thu, 30 Jan 2025) EndedAt: 2025-01-30 22:57:50 -0500 (Thu, 30 Jan 2025) EllapsedTime: 28.0 seconds RetCode: 0 Status: OK CheckDir: HEM.Rcheck Warnings: 0