Package: HEM Version: 1.78.0 Command: chmod a+r HEM -R && F:\biocbuild\bbs-3.20-bioc\R\bin\R.exe CMD build --keep-empty-dirs --no-resave-data HEM StartedAt: 2025-01-30 19:27:22 -0500 (Thu, 30 Jan 2025) EndedAt: 2025-01-30 19:27:42 -0500 (Thu, 30 Jan 2025) EllapsedTime: 19.4 seconds RetCode: 0 Status: OK PackageFile: HEM_1.78.0.tar.gz PackageFileSize: 530.1 KiB