Package: HGC Version: 1.14.0 Command: /Library/Frameworks/R.framework/Resources/bin/R CMD build --keep-empty-dirs --no-resave-data HGC StartedAt: 2025-02-03 19:33:43 -0500 (Mon, 03 Feb 2025) EndedAt: 2025-02-03 19:35:21 -0500 (Mon, 03 Feb 2025) EllapsedTime: 97.9 seconds RetCode: 0 Status: OK PackageFile: HGC_1.14.0.tar.gz PackageFileSize: 540.2 KiB