Package: HGC Version: 1.14.0 Command: /home/biocbuild/bbs-3.20-bioc/R/bin/R CMD build --keep-empty-dirs --no-resave-data --md5 HGC StartedAt: 2025-02-03 17:46:37 -0500 (Mon, 03 Feb 2025) EndedAt: 2025-02-03 17:47:19 -0500 (Mon, 03 Feb 2025) EllapsedTime: 42.0 seconds RetCode: 0 Status: OK PackageFile: HGC_1.14.0.tar.gz PackageFileSize: 530.5 KiB