Package: HGC Version: 1.14.0 Command: /home/biocbuild/bbs-3.20-bioc/R/bin/R CMD INSTALL HGC StartedAt: 2025-02-03 15:27:37 -0500 (Mon, 03 Feb 2025) EndedAt: 2025-02-03 15:28:12 -0500 (Mon, 03 Feb 2025) EllapsedTime: 34.4 seconds RetCode: 0 Status: OK