Package: HGC Version: 1.14.0 Command: /home/biocbuild/R/R/bin/R CMD build --keep-empty-dirs --no-resave-data HGC StartedAt: 2025-02-04 00:14:48 -0000 (Tue, 04 Feb 2025) EndedAt: 2025-02-04 00:15:56 -0000 (Tue, 04 Feb 2025) EllapsedTime: 68.1 seconds RetCode: 0 Status: OK PackageFile: HGC_1.14.0.tar.gz PackageFileSize: 445.3 KiB