Package: HGC Version: 1.14.0 Command: /home/biocbuild/R/R/bin/R CMD check --install=check:HGC.install-out.txt --library=/home/biocbuild/R/R/site-library --no-vignettes --timings HGC_1.14.0.tar.gz StartedAt: 2025-02-04 07:46:37 -0000 (Tue, 04 Feb 2025) EndedAt: 2025-02-04 07:50:37 -0000 (Tue, 04 Feb 2025) EllapsedTime: 240.1 seconds RetCode: 0 Status: WARNINGS CheckDir: HGC.Rcheck Warnings: 2