Package: HGC Version: 1.14.0 Command: /home/biocbuild/R/R/bin/R CMD INSTALL HGC StartedAt: 2025-02-03 20:47:05 -0000 (Mon, 03 Feb 2025) EndedAt: 2025-02-03 20:47:54 -0000 (Mon, 03 Feb 2025) EllapsedTime: 49.2 seconds RetCode: 0 Status: OK