Package: HIPPO Version: 1.18.0 Command: /Library/Frameworks/R.framework/Resources/bin/R CMD build --keep-empty-dirs --no-resave-data HIPPO StartedAt: 2025-02-03 19:37:09 -0500 (Mon, 03 Feb 2025) EndedAt: 2025-02-03 19:38:51 -0500 (Mon, 03 Feb 2025) EllapsedTime: 102.0 seconds RetCode: 0 Status: OK PackageFile: HIPPO_1.18.0.tar.gz PackageFileSize: 649.1 KiB