Package: HIPPO Version: 1.18.0 Command: /home/biocbuild/bbs-3.20-bioc/R/bin/R CMD build --keep-empty-dirs --no-resave-data --md5 HIPPO StartedAt: 2025-02-03 17:48:55 -0500 (Mon, 03 Feb 2025) EndedAt: 2025-02-03 17:49:37 -0500 (Mon, 03 Feb 2025) EllapsedTime: 42.0 seconds RetCode: 0 Status: OK PackageFile: HIPPO_1.18.0.tar.gz PackageFileSize: 628.9 KiB