Package: HIPPO Version: 1.18.0 Command: /home/biocbuild/R/R/bin/R CMD build --keep-empty-dirs --no-resave-data HIPPO StartedAt: 2025-02-04 00:17:23 -0000 (Tue, 04 Feb 2025) EndedAt: 2025-02-04 00:18:12 -0000 (Tue, 04 Feb 2025) EllapsedTime: 49.0 seconds RetCode: 0 Status: OK PackageFile: HIPPO_1.18.0.tar.gz PackageFileSize: 537.2 KiB