Package: HIPPO Version: 1.18.0 Command: /home/biocbuild/R/R/bin/R CMD INSTALL HIPPO StartedAt: 2025-02-03 20:33:46 -0000 (Mon, 03 Feb 2025) EndedAt: 2025-02-03 20:34:18 -0000 (Mon, 03 Feb 2025) EllapsedTime: 31.7 seconds RetCode: 0 Status: OK