Package: HIREewas Version: 1.24.0 Command: /Library/Frameworks/R.framework/Resources/bin/R CMD INSTALL HIREewas StartedAt: 2025-02-10 15:06:57 -0500 (Mon, 10 Feb 2025) EndedAt: 2025-02-10 15:07:19 -0500 (Mon, 10 Feb 2025) EllapsedTime: 21.9 seconds RetCode: 0 Status: OK