Package: HIREewas Version: 1.24.0 Command: /home/biocbuild/bbs-3.20-bioc/R/bin/R CMD build --keep-empty-dirs --no-resave-data --md5 HIREewas StartedAt: 2025-02-10 17:41:59 -0500 (Mon, 10 Feb 2025) EndedAt: 2025-02-10 17:42:50 -0500 (Mon, 10 Feb 2025) EllapsedTime: 51.1 seconds RetCode: 0 Status: OK PackageFile: HIREewas_1.24.0.tar.gz PackageFileSize: 266.3 KiB