Package: HIREewas Version: 1.24.0 Command: rm -rf HIREewas.buildbin-libdir && mkdir HIREewas.buildbin-libdir && F:\biocbuild\bbs-3.20-bioc\R\bin\R.exe CMD INSTALL --build --library=HIREewas.buildbin-libdir HIREewas_1.24.0.tar.gz StartedAt: 2025-02-04 08:42:15 -0500 (Tue, 04 Feb 2025) EndedAt: 2025-02-04 08:42:22 -0500 (Tue, 04 Feb 2025) EllapsedTime: 7.7 seconds RetCode: 0 Status: OK PackageFile: HIREewas_1.24.0.zip PackageFileSize: 292.5 KiB