Package: HIREewas Version: 1.24.0 Command: /home/biocbuild/R/R/bin/R CMD INSTALL HIREewas StartedAt: 2025-02-10 20:12:11 -0000 (Mon, 10 Feb 2025) EndedAt: 2025-02-10 20:12:46 -0000 (Mon, 10 Feb 2025) EllapsedTime: 34.9 seconds RetCode: 0 Status: OK