Package: HPiP Version: 1.12.0 Command: rm -rf HPiP.buildbin-libdir && mkdir HPiP.buildbin-libdir && /Users/biocbuild/BBS/utils/build-universal.sh HPiP_1.12.0.tar.gz /Library/Frameworks/R.framework/Resources/bin/R HPiP.buildbin-libdir StartedAt: 2025-02-05 16:14:16 -0500 (Wed, 05 Feb 2025) EndedAt: 2025-02-05 16:14:32 -0500 (Wed, 05 Feb 2025) EllapsedTime: 15.7 seconds RetCode: 0 Status: OK PackageFile: HPiP_1.12.0.tgz PackageFileSize: 4.31 MiB