Package: HPiP Version: 1.12.0 Command: /Library/Frameworks/R.framework/Resources/bin/R CMD INSTALL HPiP StartedAt: 2025-02-03 16:30:03 -0500 (Mon, 03 Feb 2025) EndedAt: 2025-02-03 16:30:30 -0500 (Mon, 03 Feb 2025) EllapsedTime: 26.9 seconds RetCode: 0 Status: OK