Package: HPiP Version: 1.12.0 Command: /home/biocbuild/bbs-3.20-bioc/R/bin/R CMD INSTALL HPiP StartedAt: 2025-02-03 15:57:28 -0500 (Mon, 03 Feb 2025) EndedAt: 2025-02-03 15:57:40 -0500 (Mon, 03 Feb 2025) EllapsedTime: 12.5 seconds RetCode: 0 Status: OK