Package: HPiP Version: 1.12.0 Command: rm -rf HPiP.buildbin-libdir && mkdir HPiP.buildbin-libdir && F:\biocbuild\bbs-3.20-bioc\R\bin\R.exe CMD INSTALL --build --library=HPiP.buildbin-libdir HPiP_1.12.0.tar.gz StartedAt: 2025-02-04 08:42:42 -0500 (Tue, 04 Feb 2025) EndedAt: 2025-02-04 08:43:13 -0500 (Tue, 04 Feb 2025) EllapsedTime: 30.5 seconds RetCode: 0 Status: OK PackageFile: HPiP_1.12.0.zip PackageFileSize: 2.358 MiB