Package: HPiP Version: 1.12.0 Command: chmod a+r HPiP -R && F:\biocbuild\bbs-3.20-bioc\R\bin\R.exe CMD build --keep-empty-dirs --no-resave-data HPiP StartedAt: 2025-02-03 19:46:39 -0500 (Mon, 03 Feb 2025) EndedAt: 2025-02-03 19:55:44 -0500 (Mon, 03 Feb 2025) EllapsedTime: 545.1 seconds RetCode: 0 Status: OK PackageFile: HPiP_1.12.0.tar.gz PackageFileSize: 2.612 MiB