Package: HPiP Version: 1.12.0 Command: /home/biocbuild/R/R/bin/R CMD build --keep-empty-dirs --no-resave-data HPiP StartedAt: 2025-02-04 00:19:14 -0000 (Tue, 04 Feb 2025) EndedAt: 2025-02-04 00:29:45 -0000 (Tue, 04 Feb 2025) EllapsedTime: 630.3 seconds RetCode: 0 Status: OK PackageFile: HPiP_1.12.0.tar.gz PackageFileSize: 2.856 MiB