Package: HTSeqGenie Version: 4.36.0 Command: /home/biocbuild/bbs-3.20-bioc/R/bin/R CMD INSTALL HTSeqGenie StartedAt: 2025-02-03 15:44:08 -0500 (Mon, 03 Feb 2025) EndedAt: 2025-02-03 15:45:07 -0500 (Mon, 03 Feb 2025) EllapsedTime: 59.1 seconds RetCode: 0 Status: OK