Package: Harman Version: 1.34.0 Command: rm -rf Harman.buildbin-libdir && mkdir Harman.buildbin-libdir && /Users/biocbuild/BBS/utils/build-universal.sh Harman_1.34.0.tar.gz /Library/Frameworks/R.framework/Resources/bin/R Harman.buildbin-libdir StartedAt: 2025-02-01 15:15:04 -0500 (Sat, 01 Feb 2025) EndedAt: 2025-02-01 15:15:18 -0500 (Sat, 01 Feb 2025) EllapsedTime: 13.6 seconds RetCode: 0 Status: OK PackageFile: Harman_1.34.0.tgz PackageFileSize: 2.169 MiB