Package: Harman Version: 1.34.0 Command: /Library/Frameworks/R.framework/Resources/bin/R CMD build --keep-empty-dirs --no-resave-data Harman StartedAt: 2025-01-31 01:16:11 -0500 (Fri, 31 Jan 2025) EndedAt: 2025-01-31 01:19:13 -0500 (Fri, 31 Jan 2025) EllapsedTime: 182.0 seconds RetCode: 0 Status: OK PackageFile: Harman_1.34.0.tar.gz PackageFileSize: 2.122 MiB