Package: Harman Version: 1.34.0 Command: /Library/Frameworks/R.framework/Resources/bin/R CMD INSTALL Harman StartedAt: 2025-02-03 15:17:28 -0500 (Mon, 03 Feb 2025) EndedAt: 2025-02-03 15:17:48 -0500 (Mon, 03 Feb 2025) EllapsedTime: 19.6 seconds RetCode: 0 Status: OK