Package: Harman Version: 1.34.0 Command: /home/biocbuild/R/R/bin/R CMD build --keep-empty-dirs --no-resave-data Harman StartedAt: 2025-01-31 00:13:24 -0000 (Fri, 31 Jan 2025) EndedAt: 2025-01-31 00:16:31 -0000 (Fri, 31 Jan 2025) EllapsedTime: 186.2 seconds RetCode: 0 Status: OK PackageFile: Harman_1.34.0.tar.gz PackageFileSize: 1.133 MiB