Package: Harman Version: 1.34.0 Command: /home/biocbuild/R/R/bin/R CMD INSTALL Harman StartedAt: 2025-01-30 20:10:42 -0000 (Thu, 30 Jan 2025) EndedAt: 2025-01-30 20:11:20 -0000 (Thu, 30 Jan 2025) EllapsedTime: 38.5 seconds RetCode: 0 Status: OK