Package: HarmonizR Version: 1.4.0 Command: rm -rf HarmonizR.buildbin-libdir && mkdir HarmonizR.buildbin-libdir && /Users/biocbuild/BBS/utils/build-universal.sh HarmonizR_1.4.0.tar.gz /Library/Frameworks/R.framework/Resources/bin/R HarmonizR.buildbin-libdir StartedAt: 2025-02-05 16:11:01 -0500 (Wed, 05 Feb 2025) EndedAt: 2025-02-05 16:11:04 -0500 (Wed, 05 Feb 2025) EllapsedTime: 3.5 seconds RetCode: 0 Status: OK PackageFile: HarmonizR_1.4.0.tgz PackageFileSize: 92.05 KiB