Package: HarmonizR Version: 1.4.0 Command: /Library/Frameworks/R.framework/Resources/bin/R CMD build --keep-empty-dirs --no-resave-data HarmonizR StartedAt: 2025-02-03 19:31:41 -0500 (Mon, 03 Feb 2025) EndedAt: 2025-02-03 19:32:12 -0500 (Mon, 03 Feb 2025) EllapsedTime: 30.8 seconds RetCode: 0 Status: OK PackageFile: HarmonizR_1.4.0.tar.gz PackageFileSize: 50.43 KiB