Package: HarmonizR Version: 1.4.0 Command: /home/biocbuild/bbs-3.20-bioc/R/bin/R CMD check --install=check:HarmonizR.install-out.txt --library=/home/biocbuild/bbs-3.20-bioc/R/site-library --timings HarmonizR_1.4.0.tar.gz StartedAt: 2025-02-03 23:05:48 -0500 (Mon, 03 Feb 2025) EndedAt: 2025-02-03 23:06:43 -0500 (Mon, 03 Feb 2025) EllapsedTime: 55.1 seconds RetCode: 0 Status: OK CheckDir: HarmonizR.Rcheck Warnings: 0