Package: HarmonizR Version: 1.4.0 Command: /home/biocbuild/bbs-3.20-bioc/R/bin/R CMD INSTALL HarmonizR StartedAt: 2025-02-03 15:59:55 -0500 (Mon, 03 Feb 2025) EndedAt: 2025-02-03 15:59:57 -0500 (Mon, 03 Feb 2025) EllapsedTime: 2.0 seconds RetCode: 0 Status: OK