Package: HarmonizR
Version: 1.3.0
Command: chmod a+r HarmonizR -R && F:\biocbuild\bbs-3.20-bioc\R\bin\R.exe CMD build --keep-empty-dirs --no-resave-data HarmonizR
StartedAt: 2024-06-09 19:32:51 -0400 (Sun, 09 Jun 2024)
EndedAt: 2024-06-09 19:33:33 -0400 (Sun, 09 Jun 2024)
EllapsedTime: 42.7 seconds
RetCode: 0
Status: OK
PackageFile: HarmonizR_1.3.0.tar.gz
PackageFileSize: 49.81 <A href="http://en.wikipedia.org/wiki/KiB" target="_blank">KiB</A>