Package: Heatplus Version: 3.14.0 Command: /Library/Frameworks/R.framework/Resources/bin/R CMD INSTALL Heatplus StartedAt: 2025-02-03 15:11:38 -0500 (Mon, 03 Feb 2025) EndedAt: 2025-02-03 15:11:41 -0500 (Mon, 03 Feb 2025) EllapsedTime: 2.5 seconds RetCode: 0 Status: OK