Package: Heatplus
Version: 3.14.0
Command: /Library/Frameworks/R.framework/Resources/bin/R CMD build --keep-empty-dirs --no-resave-data Heatplus
StartedAt: 2024-11-19 17:09:07 -0500 (Tue, 19 Nov 2024)
EndedAt: 2024-11-19 17:09:35 -0500 (Tue, 19 Nov 2024)
EllapsedTime: 28.6 seconds
RetCode: 0
Status: OK
PackageFile: Heatplus_3.14.0.tar.gz
PackageFileSize: 1.183 <A href="http://en.wikipedia.org/wiki/MiB" target="_blank">MiB</A>