Package: Heatplus Version: 3.14.0 Command: /home/biocbuild/bbs-3.20-bioc/R/bin/R CMD build --keep-empty-dirs --no-resave-data --md5 Heatplus StartedAt: 2025-02-03 17:46:10 -0500 (Mon, 03 Feb 2025) EndedAt: 2025-02-03 17:46:24 -0500 (Mon, 03 Feb 2025) EllapsedTime: 14.0 seconds RetCode: 0 Status: OK PackageFile: Heatplus_3.14.0.tar.gz PackageFileSize: 1.18 MiB