Package: Heatplus Version: 3.14.0 Command: rm -rf Heatplus.buildbin-libdir && mkdir Heatplus.buildbin-libdir && F:\biocbuild\bbs-3.20-bioc\R\bin\R.exe CMD INSTALL --build --library=Heatplus.buildbin-libdir Heatplus_3.14.0.tar.gz StartedAt: 2025-02-04 08:41:03 -0500 (Tue, 04 Feb 2025) EndedAt: 2025-02-04 08:41:17 -0500 (Tue, 04 Feb 2025) EllapsedTime: 13.7 seconds RetCode: 0 Status: OK PackageFile: Heatplus_3.14.0.zip PackageFileSize: 950.3 KiB