Package: Heatplus Version: 3.14.0 Command: /home/biocbuild/R/R/bin/R CMD check --install=check:Heatplus.install-out.txt --library=/home/biocbuild/R/R/site-library --no-vignettes --timings Heatplus_3.14.0.tar.gz StartedAt: 2025-02-18 07:37:18 -0000 (Tue, 18 Feb 2025) EndedAt: 2025-02-18 07:37:38 -0000 (Tue, 18 Feb 2025) EllapsedTime: 20.0 seconds RetCode: 0 Status: OK CheckDir: Heatplus.Rcheck Warnings: 0