Package: HelloRanges Version: 1.32.0 Command: /Library/Frameworks/R.framework/Resources/bin/R CMD check --install=check:HelloRanges.install-out.txt --library=/Library/Frameworks/R.framework/Resources/library --no-vignettes --timings HelloRanges_1.32.0.tar.gz StartedAt: 2024-11-19 22:55:17 -0500 (Tue, 19 Nov 2024) EndedAt: 2024-11-19 23:03:06 -0500 (Tue, 19 Nov 2024) EllapsedTime: 468.9 seconds RetCode: 0 Status: OK CheckDir: HelloRanges.Rcheck Warnings: 0