Package: HelloRanges Version: 1.32.0 Command: /home/biocbuild/bbs-3.20-bioc/R/bin/R CMD check --install=check:HelloRanges.install-out.txt --library=/home/biocbuild/bbs-3.20-bioc/R/site-library --timings HelloRanges_1.32.0.tar.gz StartedAt: 2025-02-03 23:06:59 -0500 (Mon, 03 Feb 2025) EndedAt: 2025-02-03 23:15:15 -0500 (Mon, 03 Feb 2025) EllapsedTime: 496.6 seconds RetCode: 0 Status: OK CheckDir: HelloRanges.Rcheck Warnings: 0