Package: HelloRanges Version: 1.32.0 Command: /home/biocbuild/bbs-3.20-bioc/R/bin/R CMD INSTALL HelloRanges StartedAt: 2025-02-03 15:33:57 -0500 (Mon, 03 Feb 2025) EndedAt: 2025-02-03 15:34:40 -0500 (Mon, 03 Feb 2025) EllapsedTime: 43.5 seconds RetCode: 0 Status: OK