Package: HelloRanges Version: 1.32.0 Command: F:\biocbuild\bbs-3.20-bioc\R\bin\R.exe CMD INSTALL HelloRanges StartedAt: 2025-02-03 16:55:36 -0500 (Mon, 03 Feb 2025) EndedAt: 2025-02-03 16:56:51 -0500 (Mon, 03 Feb 2025) EllapsedTime: 74.1 seconds RetCode: 0 Status: OK