Package: Herper Version: 1.16.0 Command: rm -rf Herper.buildbin-libdir && mkdir Herper.buildbin-libdir && F:\biocbuild\bbs-3.20-bioc\R\bin\R.exe CMD INSTALL --build --library=Herper.buildbin-libdir Herper_1.16.0.tar.gz StartedAt: 2025-02-04 08:41:25 -0500 (Tue, 04 Feb 2025) EndedAt: 2025-02-04 08:41:39 -0500 (Tue, 04 Feb 2025) EllapsedTime: 13.7 seconds RetCode: 0 Status: OK PackageFile: Herper_1.16.0.zip PackageFileSize: 466.1 KiB