Package: Herper Version: 1.16.0 Command: F:\biocbuild\bbs-3.20-bioc\R\bin\R.exe CMD check --no-multiarch --install=check:Herper.install-out.txt --library=F:\biocbuild\bbs-3.20-bioc\R\library --no-vignettes --timings Herper_1.16.0.tar.gz StartedAt: 2025-02-04 02:39:00 -0500 (Tue, 04 Feb 2025) EndedAt: 2025-02-04 02:40:03 -0500 (Tue, 04 Feb 2025) EllapsedTime: 63.0 seconds RetCode: 1 Status: ERROR CheckDir: Herper.Rcheck Warnings: NA