Package: HiCDCPlus
Version: 1.14.0
Command: /home/biocbuild/R/R/bin/R CMD check --install=check:HiCDCPlus.install-out.txt --library=/home/biocbuild/R/R/site-library --no-vignettes --timings HiCDCPlus_1.14.0.tar.gz
StartedAt: 2024-11-20 08:47:23 -0000 (Wed, 20 Nov 2024)
EndedAt: 2024-11-20 08:54:55 -0000 (Wed, 20 Nov 2024)
EllapsedTime: 451.8 seconds
RetCode: 0
Status: OK
CheckDir: HiCDCPlus.Rcheck
Warnings: 0